BEGIN:VCALENDAR
VERSION:2.0
PRODID:-//ajmphoto - ECPv6.15.15//NONSGML v1.0//EN
CALSCALE:GREGORIAN
METHOD:PUBLISH
X-WR-CALNAME:ajmphoto
X-ORIGINAL-URL:https://ajmphoto.fr
X-WR-CALDESC:Évènements pour ajmphoto
REFRESH-INTERVAL;VALUE=DURATION:PT1H
X-Robots-Tag:noindex
X-PUBLISHED-TTL:PT1H
BEGIN:VTIMEZONE
TZID:Europe/Paris
BEGIN:DAYLIGHT
TZOFFSETFROM:+0100
TZOFFSETTO:+0200
TZNAME:CEST
DTSTART:20240331T010000
END:DAYLIGHT
BEGIN:STANDARD
TZOFFSETFROM:+0200
TZOFFSETTO:+0100
TZNAME:CET
DTSTART:20241027T010000
END:STANDARD
BEGIN:DAYLIGHT
TZOFFSETFROM:+0100
TZOFFSETTO:+0200
TZNAME:CEST
DTSTART:20250330T010000
END:DAYLIGHT
BEGIN:STANDARD
TZOFFSETFROM:+0200
TZOFFSETTO:+0100
TZNAME:CET
DTSTART:20251026T010000
END:STANDARD
BEGIN:DAYLIGHT
TZOFFSETFROM:+0100
TZOFFSETTO:+0200
TZNAME:CEST
DTSTART:20260329T010000
END:DAYLIGHT
BEGIN:STANDARD
TZOFFSETFROM:+0200
TZOFFSETTO:+0100
TZNAME:CET
DTSTART:20261025T010000
END:STANDARD
END:VTIMEZONE
BEGIN:VEVENT
DTSTART;TZID=Europe/Paris:20250802T080000
DTEND;TZID=Europe/Paris:20250823T170000
DTSTAMP:20260422T014719
CREATED:20241110T105048Z
LAST-MODIFIED:20241110T105454Z
UID:1504-1754121600-1755968400@ajmphoto.fr
SUMMARY:Salon de la photographie Saint-Aulaye
DESCRIPTION:Organisé par Focus 24. Concours photo.
URL:https://ajmphoto.fr/event/salon-de-la-photographie-saint-aulaye/
LOCATION:Focus 24\, Saint-Aulaye
ORGANIZER;CN="Focus 24":MAILTO:collectif.focus24@gmail.com
END:VEVENT
BEGIN:VEVENT
DTSTART;TZID=Europe/Paris:20250804T180000
DTEND;TZID=Europe/Paris:20250804T220000
DTSTAMP:20260422T014719
CREATED:20250708T162651Z
LAST-MODIFIED:20250708T162651Z
UID:2874-1754330400-1754344800@ajmphoto.fr
SUMMARY:Réunion mensuelle
DESCRIPTION:
URL:https://ajmphoto.fr/event/reunion-mensuelle-10/
LOCATION:Saint Eutrope\, Mairie\, Saint-Eutrope\, France
END:VEVENT
BEGIN:VEVENT
DTSTART;TZID=Europe/Paris:20250809T093000
DTEND;TZID=Europe/Paris:20250809T120000
DTSTAMP:20260422T014719
CREATED:20250809T124342Z
LAST-MODIFIED:20250809T124342Z
UID:2923-1754731800-1754740800@ajmphoto.fr
SUMMARY:photoshop
DESCRIPTION:
URL:https://ajmphoto.fr/event/photoshop/
LOCATION:Saint Eutrope\, Mairie\, Saint-Eutrope\, France
END:VEVENT
END:VCALENDAR