BEGIN:VCALENDAR
VERSION:2.0
PRODID:-//ajmphoto - ECPv6.15.15//NONSGML v1.0//EN
CALSCALE:GREGORIAN
METHOD:PUBLISH
X-WR-CALNAME:ajmphoto
X-ORIGINAL-URL:https://ajmphoto.fr
X-WR-CALDESC:Évènements pour ajmphoto
REFRESH-INTERVAL;VALUE=DURATION:PT1H
X-Robots-Tag:noindex
X-PUBLISHED-TTL:PT1H
BEGIN:VTIMEZONE
TZID:Europe/Paris
BEGIN:DAYLIGHT
TZOFFSETFROM:+0100
TZOFFSETTO:+0200
TZNAME:CEST
DTSTART:20240331T010000
END:DAYLIGHT
BEGIN:STANDARD
TZOFFSETFROM:+0200
TZOFFSETTO:+0100
TZNAME:CET
DTSTART:20241027T010000
END:STANDARD
BEGIN:DAYLIGHT
TZOFFSETFROM:+0100
TZOFFSETTO:+0200
TZNAME:CEST
DTSTART:20250330T010000
END:DAYLIGHT
BEGIN:STANDARD
TZOFFSETFROM:+0200
TZOFFSETTO:+0100
TZNAME:CET
DTSTART:20251026T010000
END:STANDARD
BEGIN:DAYLIGHT
TZOFFSETFROM:+0100
TZOFFSETTO:+0200
TZNAME:CEST
DTSTART:20260329T010000
END:DAYLIGHT
BEGIN:STANDARD
TZOFFSETFROM:+0200
TZOFFSETTO:+0100
TZNAME:CET
DTSTART:20261025T010000
END:STANDARD
END:VTIMEZONE
BEGIN:VEVENT
DTSTART;TZID=Europe/Paris:20250705T093000
DTEND;TZID=Europe/Paris:20250705T120000
DTSTAMP:20260422T025823
CREATED:20250704T080616Z
LAST-MODIFIED:20250704T080616Z
UID:2862-1751707800-1751716800@ajmphoto.fr
SUMMARY:photoshop/lightroom
DESCRIPTION:
URL:https://ajmphoto.fr/event/photoshop-lightroom/
LOCATION:Saint Eutrope\, Mairie\, Saint-Eutrope\, France
END:VEVENT
BEGIN:VEVENT
DTSTART;TZID=Europe/Paris:20250707T180000
DTEND;TZID=Europe/Paris:20250707T210000
DTSTAMP:20260422T025823
CREATED:20250704T080807Z
LAST-MODIFIED:20250704T080807Z
UID:2864-1751911200-1751922000@ajmphoto.fr
SUMMARY:Réunion mensuelle
DESCRIPTION:
URL:https://ajmphoto.fr/event/reunion-mensuelle-9/
LOCATION:Saint Eutrope\, Mairie\, Saint-Eutrope\, France
END:VEVENT
BEGIN:VEVENT
DTSTART;TZID=Europe/Paris:20250712T093000
DTEND;TZID=Europe/Paris:20250712T120000
DTSTAMP:20260422T025823
CREATED:20250708T162507Z
LAST-MODIFIED:20250708T162518Z
UID:2872-1752312600-1752321600@ajmphoto.fr
SUMMARY:photoshop/lightroom
DESCRIPTION:
URL:https://ajmphoto.fr/event/photoshop-lightroom-2/
LOCATION:Saint Eutrope\, Mairie\, Saint-Eutrope\, France
END:VEVENT
END:VCALENDAR