BEGIN:VCALENDAR
VERSION:2.0
PRODID:-//ajmphoto - ECPv6.15.15//NONSGML v1.0//EN
CALSCALE:GREGORIAN
METHOD:PUBLISH
X-ORIGINAL-URL:https://ajmphoto.fr
X-WR-CALDESC:Évènements pour ajmphoto
REFRESH-INTERVAL;VALUE=DURATION:PT1H
X-Robots-Tag:noindex
X-PUBLISHED-TTL:PT1H
BEGIN:VTIMEZONE
TZID:Europe/Paris
BEGIN:DAYLIGHT
TZOFFSETFROM:+0100
TZOFFSETTO:+0200
TZNAME:CEST
DTSTART:20240331T010000
END:DAYLIGHT
BEGIN:STANDARD
TZOFFSETFROM:+0200
TZOFFSETTO:+0100
TZNAME:CET
DTSTART:20241027T010000
END:STANDARD
BEGIN:DAYLIGHT
TZOFFSETFROM:+0100
TZOFFSETTO:+0200
TZNAME:CEST
DTSTART:20250330T010000
END:DAYLIGHT
BEGIN:STANDARD
TZOFFSETFROM:+0200
TZOFFSETTO:+0100
TZNAME:CET
DTSTART:20251026T010000
END:STANDARD
BEGIN:DAYLIGHT
TZOFFSETFROM:+0100
TZOFFSETTO:+0200
TZNAME:CEST
DTSTART:20260329T010000
END:DAYLIGHT
BEGIN:STANDARD
TZOFFSETFROM:+0200
TZOFFSETTO:+0100
TZNAME:CET
DTSTART:20261025T010000
END:STANDARD
END:VTIMEZONE
BEGIN:VEVENT
DTSTART;TZID=Europe/Paris:20250405T080000
DTEND;TZID=Europe/Paris:20250511T170000
DTSTAMP:20260422T072135
CREATED:20250329T103043Z
LAST-MODIFIED:20250329T103043Z
UID:2562-1743840000-1746982800@ajmphoto.fr
SUMMARY:L'Emoi photographique
DESCRIPTION:Présentation au Musée d’Angoulême\, dans le cadre du festival L’Emoi photographique du travail de Valérie Evrard\, Estelle Lagarde et Justine Darmon. Vernissage le samedi 5 avril à 17h30.
URL:https://ajmphoto.fr/event/lemoi-photographique/
LOCATION:Musée d’Angoulême\, rue Corneille\, Angoulême\, 16000\, France
END:VEVENT
BEGIN:VEVENT
DTSTART;TZID=Europe/Paris:20250406T110000
DTEND;TZID=Europe/Paris:20250406T170000
DTSTAMP:20260422T072135
CREATED:20250321T192137Z
LAST-MODIFIED:20250321T193550Z
UID:2489-1743937200-1743958800@ajmphoto.fr
SUMMARY:Rassemblement de véhicules anciens
DESCRIPTION:                                   
URL:https://ajmphoto.fr/event/rassemblement-de-vehicules-anciens/
LOCATION:Aignes et Puyperoux\, 16190\, France
END:VEVENT
BEGIN:VEVENT
DTSTART;TZID=Europe/Paris:20250407T180000
DTEND;TZID=Europe/Paris:20250407T220000
DTSTAMP:20260422T072135
CREATED:20250321T191903Z
LAST-MODIFIED:20250321T191903Z
UID:2487-1744048800-1744063200@ajmphoto.fr
SUMMARY:Réunion mensuelle
DESCRIPTION:Théme du mois : la ville la nuit \namener son boitier\, travaux pratiques sur mesure de la lumiére
URL:https://ajmphoto.fr/event/reunion-mensuelle-6/
LOCATION:Saint Eutrope\, Mairie\, Saint-Eutrope\, France
END:VEVENT
END:VCALENDAR