BEGIN:VCALENDAR
VERSION:2.0
PRODID:-//ajmphoto - ECPv6.15.15//NONSGML v1.0//EN
CALSCALE:GREGORIAN
METHOD:PUBLISH
X-ORIGINAL-URL:https://ajmphoto.fr
X-WR-CALDESC:Évènements pour ajmphoto
REFRESH-INTERVAL;VALUE=DURATION:PT1H
X-Robots-Tag:noindex
X-PUBLISHED-TTL:PT1H
BEGIN:VTIMEZONE
TZID:Europe/Paris
BEGIN:DAYLIGHT
TZOFFSETFROM:+0100
TZOFFSETTO:+0200
TZNAME:CEST
DTSTART:20230326T010000
END:DAYLIGHT
BEGIN:STANDARD
TZOFFSETFROM:+0200
TZOFFSETTO:+0100
TZNAME:CET
DTSTART:20231029T010000
END:STANDARD
BEGIN:DAYLIGHT
TZOFFSETFROM:+0100
TZOFFSETTO:+0200
TZNAME:CEST
DTSTART:20240331T010000
END:DAYLIGHT
BEGIN:STANDARD
TZOFFSETFROM:+0200
TZOFFSETTO:+0100
TZNAME:CET
DTSTART:20241027T010000
END:STANDARD
BEGIN:DAYLIGHT
TZOFFSETFROM:+0100
TZOFFSETTO:+0200
TZNAME:CEST
DTSTART:20250330T010000
END:DAYLIGHT
BEGIN:STANDARD
TZOFFSETFROM:+0200
TZOFFSETTO:+0100
TZNAME:CET
DTSTART:20251026T010000
END:STANDARD
END:VTIMEZONE
BEGIN:VEVENT
DTSTART;VALUE=DATE:20241026
DTEND;VALUE=DATE:20241104
DTSTAMP:20260422T142833
CREATED:20241020T102509Z
LAST-MODIFIED:20241020T102509Z
UID:1434-1729900800-1730678399@ajmphoto.fr
SUMMARY:Festival Déclic'events
DESCRIPTION:Expositions\, concours\, workshop…
URL:https://ajmphoto.fr/event/festival-declicevents/
LOCATION:Fléac\, Fléac\, 16730\, France
END:VEVENT
BEGIN:VEVENT
DTSTART;TZID=Europe/Paris:20241104T180000
DTEND;TZID=Europe/Paris:20241104T200000
DTSTAMP:20260422T142833
CREATED:20241029T203010Z
LAST-MODIFIED:20241029T203010Z
UID:1479-1730743200-1730750400@ajmphoto.fr
SUMMARY:Réunion AJM
DESCRIPTION:
URL:https://ajmphoto.fr/event/reunion-ajm/
LOCATION:Saint Eutrope\, Mairie\, Saint-Eutrope\, France
END:VEVENT
BEGIN:VEVENT
DTSTART;TZID=Europe/Paris:20241121T200000
DTEND;TZID=Europe/Paris:20241121T220000
DTSTAMP:20260422T142833
CREATED:20241121T131022Z
LAST-MODIFIED:20241121T131022Z
UID:1515-1732219200-1732226400@ajmphoto.fr
SUMMARY:soirée profondeur de champs
DESCRIPTION:
URL:https://ajmphoto.fr/event/soiree-profondeur-de-champs/
LOCATION:Saint Eutrope\, Mairie\, Saint-Eutrope\, France
END:VEVENT
BEGIN:VEVENT
DTSTART;TZID=Europe/Paris:20241130T093000
DTEND;TZID=Europe/Paris:20241130T113000
DTSTAMP:20260422T142833
CREATED:20241128T133341Z
LAST-MODIFIED:20241128T133341Z
UID:1572-1732959000-1732966200@ajmphoto.fr
SUMMARY:Atelier Photoshop
DESCRIPTION:
URL:https://ajmphoto.fr/event/atelier-photoshop/
LOCATION:Saint Eutrope\, Mairie\, Saint-Eutrope\, France
END:VEVENT
END:VCALENDAR