BEGIN:VCALENDAR
VERSION:2.0
PRODID:-//ajmphoto - ECPv6.15.15//NONSGML v1.0//EN
CALSCALE:GREGORIAN
METHOD:PUBLISH
X-WR-CALNAME:ajmphoto
X-ORIGINAL-URL:https://ajmphoto.fr
X-WR-CALDESC:Évènements pour ajmphoto
REFRESH-INTERVAL;VALUE=DURATION:PT1H
X-Robots-Tag:noindex
X-PUBLISHED-TTL:PT1H
BEGIN:VTIMEZONE
TZID:Europe/Paris
BEGIN:DAYLIGHT
TZOFFSETFROM:+0100
TZOFFSETTO:+0200
TZNAME:CEST
DTSTART:20230326T010000
END:DAYLIGHT
BEGIN:STANDARD
TZOFFSETFROM:+0200
TZOFFSETTO:+0100
TZNAME:CET
DTSTART:20231029T010000
END:STANDARD
BEGIN:DAYLIGHT
TZOFFSETFROM:+0100
TZOFFSETTO:+0200
TZNAME:CEST
DTSTART:20240331T010000
END:DAYLIGHT
BEGIN:STANDARD
TZOFFSETFROM:+0200
TZOFFSETTO:+0100
TZNAME:CET
DTSTART:20241027T010000
END:STANDARD
BEGIN:DAYLIGHT
TZOFFSETFROM:+0100
TZOFFSETTO:+0200
TZNAME:CEST
DTSTART:20250330T010000
END:DAYLIGHT
BEGIN:STANDARD
TZOFFSETFROM:+0200
TZOFFSETTO:+0100
TZNAME:CET
DTSTART:20251026T010000
END:STANDARD
END:VTIMEZONE
BEGIN:VEVENT
DTSTART;TZID=Europe/Paris:20240902T180000
DTEND;TZID=Europe/Paris:20240902T210000
DTSTAMP:20260422T174808
CREATED:20240901T094436Z
LAST-MODIFIED:20240901T094436Z
UID:1318-1725300000-1725310800@ajmphoto.fr
SUMMARY:réunion préparation concours
DESCRIPTION:
URL:https://ajmphoto.fr/event/reunion-preparation-concours/
LOCATION:Saint Eutrope\, Mairie\, Saint-Eutrope\, France
END:VEVENT
BEGIN:VEVENT
DTSTART;TZID=Europe/Paris:20240906T080000
DTEND;TZID=Europe/Paris:20240928T170000
DTSTAMP:20260422T174808
CREATED:20240909T090456Z
LAST-MODIFIED:20240909T090456Z
UID:1338-1725609600-1727542800@ajmphoto.fr
SUMMARY:Odile Pellissier - Villebois-Lavalette
DESCRIPTION:La photographe-plasticienne expose à la mediathèque de Villebois-Lavalette ses photographies.
URL:https://ajmphoto.fr/event/odile-pellissier-villebois-lavalette/
LOCATION:Médiathèque Villbis-Lavalette\, Villebois-Lavalette\, 16320\, France
END:VEVENT
BEGIN:VEVENT
DTSTART;TZID=Europe/Paris:20240907T090000
DTEND;TZID=Europe/Paris:20240907T123000
DTSTAMP:20260422T174808
CREATED:20240901T143849Z
LAST-MODIFIED:20240901T143849Z
UID:1326-1725699600-1725712200@ajmphoto.fr
SUMMARY:Forum de associations
DESCRIPTION:Présentation de logiciels photos
URL:https://ajmphoto.fr/event/forum-de-associations/
LOCATION:cinéma Montmoreau\, 29 Av. de l'Aquitaine\, Montmoreau\, 16190
END:VEVENT
BEGIN:VEVENT
DTSTART;TZID=Europe/Paris:20240909T180000
DTEND;TZID=Europe/Paris:20240909T210000
DTSTAMP:20260422T174808
CREATED:20240901T142924Z
LAST-MODIFIED:20240901T142924Z
UID:1320-1725904800-1725915600@ajmphoto.fr
SUMMARY:réunion mensuelle
DESCRIPTION:
URL:https://ajmphoto.fr/event/reunion-mensuelle-2/
LOCATION:Saint Eutrope\, Mairie\, Saint-Eutrope\, France
END:VEVENT
END:VCALENDAR