BEGIN:VCALENDAR
VERSION:2.0
PRODID:-//ajmphoto - ECPv6.15.15//NONSGML v1.0//EN
CALSCALE:GREGORIAN
METHOD:PUBLISH
X-ORIGINAL-URL:https://ajmphoto.fr
X-WR-CALDESC:Évènements pour ajmphoto
REFRESH-INTERVAL;VALUE=DURATION:PT1H
X-Robots-Tag:noindex
X-PUBLISHED-TTL:PT1H
BEGIN:VTIMEZONE
TZID:Europe/Paris
BEGIN:DAYLIGHT
TZOFFSETFROM:+0100
TZOFFSETTO:+0200
TZNAME:CEST
DTSTART:20230326T010000
END:DAYLIGHT
BEGIN:STANDARD
TZOFFSETFROM:+0200
TZOFFSETTO:+0100
TZNAME:CET
DTSTART:20231029T010000
END:STANDARD
BEGIN:DAYLIGHT
TZOFFSETFROM:+0100
TZOFFSETTO:+0200
TZNAME:CEST
DTSTART:20240331T010000
END:DAYLIGHT
BEGIN:STANDARD
TZOFFSETFROM:+0200
TZOFFSETTO:+0100
TZNAME:CET
DTSTART:20241027T010000
END:STANDARD
BEGIN:DAYLIGHT
TZOFFSETFROM:+0100
TZOFFSETTO:+0200
TZNAME:CEST
DTSTART:20250330T010000
END:DAYLIGHT
BEGIN:STANDARD
TZOFFSETFROM:+0200
TZOFFSETTO:+0100
TZNAME:CET
DTSTART:20251026T010000
END:STANDARD
END:VTIMEZONE
BEGIN:VEVENT
DTSTART;TZID=Europe/Paris:20240701T180000
DTEND;TZID=Europe/Paris:20240701T200000
DTSTAMP:20260422T205017
CREATED:20240613T163756Z
LAST-MODIFIED:20240613T163756Z
UID:602-1719856800-1719864000@ajmphoto.fr
SUMMARY:Réunion mensuelle AJM
DESCRIPTION:
URL:https://ajmphoto.fr/event/reunion-mensuelle-ajm-3/
LOCATION:Saint Eutrope\, Mairie\, Saint-Eutrope\, France
END:VEVENT
BEGIN:VEVENT
DTSTART;TZID=Europe/Paris:20240712T080000
DTEND;TZID=Europe/Paris:20240714T170000
DTSTAMP:20260422T205017
CREATED:20240707T162242Z
LAST-MODIFIED:20240707T162406Z
UID:964-1720771200-1720976400@ajmphoto.fr
SUMMARY:Moïsette Charrier
DESCRIPTION:Les vendredi\, samedi et dimanche de juillet au Bonn’art café.
URL:https://ajmphoto.fr/event/moisette-charrier/
LOCATION:Bonn’art Café\, Bonnes\, 16390\, France
END:VEVENT
BEGIN:VEVENT
DTSTART;TZID=Europe/Paris:20240722T180000
DTEND;TZID=Europe/Paris:20240722T210000
DTSTAMP:20260422T205017
CREATED:20240715T142955Z
LAST-MODIFIED:20240715T142955Z
UID:1073-1721671200-1721682000@ajmphoto.fr
SUMMARY:Réunion Cinema de Montmoreau
DESCRIPTION:sujet de la réunion \nEspelette \nSite internet \nPhotoshop \n 
URL:https://ajmphoto.fr/event/reunion-cinema-de-montmoreau/
END:VEVENT
BEGIN:VEVENT
DTSTART;TZID=Europe/Paris:20240724T180000
DTEND;TZID=Europe/Paris:20240731T180000
DTSTAMP:20260422T205017
CREATED:20240715T143248Z
LAST-MODIFIED:20240715T143248Z
UID:1075-1721844000-1722448800@ajmphoto.fr
SUMMARY:sortie Espelette
DESCRIPTION:
URL:https://ajmphoto.fr/event/sortie-espelette/
END:VEVENT
END:VCALENDAR