BEGIN:VCALENDAR
VERSION:2.0
PRODID:-//ajmphoto - ECPv6.15.15//NONSGML v1.0//EN
CALSCALE:GREGORIAN
METHOD:PUBLISH
X-ORIGINAL-URL:https://ajmphoto.fr
X-WR-CALDESC:Évènements pour ajmphoto
REFRESH-INTERVAL;VALUE=DURATION:PT1H
X-Robots-Tag:noindex
X-PUBLISHED-TTL:PT1H
BEGIN:VTIMEZONE
TZID:Europe/Paris
BEGIN:DAYLIGHT
TZOFFSETFROM:+0100
TZOFFSETTO:+0200
TZNAME:CEST
DTSTART:20230326T010000
END:DAYLIGHT
BEGIN:STANDARD
TZOFFSETFROM:+0200
TZOFFSETTO:+0100
TZNAME:CET
DTSTART:20231029T010000
END:STANDARD
BEGIN:DAYLIGHT
TZOFFSETFROM:+0100
TZOFFSETTO:+0200
TZNAME:CEST
DTSTART:20240331T010000
END:DAYLIGHT
BEGIN:STANDARD
TZOFFSETFROM:+0200
TZOFFSETTO:+0100
TZNAME:CET
DTSTART:20241027T010000
END:STANDARD
BEGIN:DAYLIGHT
TZOFFSETFROM:+0100
TZOFFSETTO:+0200
TZNAME:CEST
DTSTART:20250330T010000
END:DAYLIGHT
BEGIN:STANDARD
TZOFFSETFROM:+0200
TZOFFSETTO:+0100
TZNAME:CET
DTSTART:20251026T010000
END:STANDARD
END:VTIMEZONE
BEGIN:VEVENT
DTSTART;TZID=Europe/Paris:20240609T100000
DTEND;TZID=Europe/Paris:20240609T120000
DTSTAMP:20260422T223755
CREATED:20240606T173401Z
LAST-MODIFIED:20240606T173401Z
UID:269-1717927200-1717934400@ajmphoto.fr
SUMMARY:Marie-Christine Champion
DESCRIPTION:Vernissage de l’exposition à La Fraternelle
URL:https://ajmphoto.fr/event/marie-christine-champion/
LOCATION:Le Fraternel\, 1 rue Elie Vinet\, Barbezieux\, 16300\, France
END:VEVENT
BEGIN:VEVENT
DTSTART;TZID=Europe/Paris:20240610T180000
DTEND;TZID=Europe/Paris:20240610T200000
DTSTAMP:20260422T223755
CREATED:20240609T163754Z
LAST-MODIFIED:20240609T163841Z
UID:280-1718042400-1718049600@ajmphoto.fr
SUMMARY:Réunion mensuelle AJM
DESCRIPTION:Thème « cimetière »
URL:https://ajmphoto.fr/event/reunion-mensuelle-ajm/
LOCATION:Saint Eutrope\, Mairie\, Saint-Eutrope\, France
END:VEVENT
BEGIN:VEVENT
DTSTART;TZID=Europe/Paris:20240611T163000
DTEND;TZID=Europe/Paris:20240611T173000
DTSTAMP:20260422T223755
CREATED:20240611T134016Z
LAST-MODIFIED:20240611T134016Z
UID:337-1718123400-1718127000@ajmphoto.fr
SUMMARY:Cushmok conférence
DESCRIPTION:
URL:https://ajmphoto.fr/event/cushmok-conference/
LOCATION:Ruelle\, Salon Jean Ferrat\, Salon Jean Ferrat\, Ruelle\, 16600\, France
END:VEVENT
BEGIN:VEVENT
DTSTART;TZID=Europe/Paris:20240615T080000
DTEND;TZID=Europe/Paris:20240615T170000
DTSTAMP:20260422T223755
CREATED:20240613T163529Z
LAST-MODIFIED:20240613T163529Z
UID:600-1718438400-1718470800@ajmphoto.fr
SUMMARY:Séance Photoshop
DESCRIPTION:partir d’une photo couleur\, la passer en noir et blanc et lui appliquer 2 ou 3 effets glitch
URL:https://ajmphoto.fr/event/seance-photoshop/
LOCATION:Saint Eutrope\, Mairie\, Saint-Eutrope\, France
END:VEVENT
BEGIN:VEVENT
DTSTART;TZID=Europe/Paris:20240615T100000
DTEND;TZID=Europe/Paris:20240616T180000
DTSTAMP:20260422T223755
CREATED:20240611T133653Z
LAST-MODIFIED:20240611T133653Z
UID:330-1718445600-1718560800@ajmphoto.fr
SUMMARY:Expo photo Ruelle
DESCRIPTION:
URL:https://ajmphoto.fr/event/expo-photo-ruelle/
LOCATION:Ruelle\, Salon Jean Ferrat\, Salon Jean Ferrat\, Ruelle\, 16600\, France
END:VEVENT
BEGIN:VEVENT
DTSTART;TZID=Europe/Paris:20240615T143000
DTEND;TZID=Europe/Paris:20240615T153000
DTSTAMP:20260422T223755
CREATED:20240611T133923Z
LAST-MODIFIED:20240611T133923Z
UID:335-1718461800-1718465400@ajmphoto.fr
SUMMARY:Jean-Daniel Guillou conférence
DESCRIPTION:
URL:https://ajmphoto.fr/event/jean-daniel-guillou-conference/
LOCATION:Ruelle\, Salon Jean Ferrat\, Salon Jean Ferrat\, Ruelle\, 16600\, France
END:VEVENT
BEGIN:VEVENT
DTSTART;TZID=Europe/Paris:20240615T180000
DTEND;TZID=Europe/Paris:20240615T190000
DTSTAMP:20260422T223755
CREATED:20240611T134131Z
LAST-MODIFIED:20240611T134131Z
UID:339-1718474400-1718478000@ajmphoto.fr
SUMMARY:Vernissage Ruelle
DESCRIPTION:
URL:https://ajmphoto.fr/event/vernissage-ruelle/
LOCATION:Ruelle\, Salon Jean Ferrat\, Salon Jean Ferrat\, Ruelle\, 16600\, France
END:VEVENT
BEGIN:VEVENT
DTSTART;TZID=Europe/Paris:20240623T093000
DTEND;TZID=Europe/Paris:20240623T170000
DTSTAMP:20260422T223755
CREATED:20240613T164711Z
LAST-MODIFIED:20240617T172429Z
UID:598-1719135000-1719162000@ajmphoto.fr
SUMMARY:Déclic Event Rallye Photo à Chateauneuf
DESCRIPTION:Un Rallye Photo ça vous dit ?  \nDimanche 23 juin\, venez découvrir le patrimoine de Châteauneuf sur Charente.  \nLe principe est simple\, vous disposez d’une carte et d’une liste d’indices\, grâce aux points sur la carte et à votre sens de la recherche\, faites les photos demandées ! \nEn groupe\, en famille\, entre amis\, ou en solitaire\, ouvert à tous et avec tout type de matériel photographique. \nNous vous accueillerons à partir de 9h30 dans le jardin public de Châteauneuf.  \nLa journée se déroulera en 2 parties\, une liste le matin\, une autre l’après midi. \nUn espace détente-restauration sera disponible. \nUne participation de 5€ sera demandée.  \nVous souhaitez vous inscrire ?  \nEnvoyez-nous un mail à l’adresse evenement.declicsevents@gmail.com avec votre nom\, prénom\, n° de téléphone\, club photo (optionnel).
URL:https://ajmphoto.fr/event/declic-event-rallye-photo-a-chateauneuf/
LOCATION:Chateauneuf sur Charente\, Jardin Public\, Chateauneuf sur Charente\, France
ORGANIZER;CN="Declics Events":MAILTO:declics.events@gmail.com
END:VEVENT
BEGIN:VEVENT
DTSTART;TZID=Europe/Paris:20240627T180000
DTEND;TZID=Europe/Paris:20240627T230000
DTSTAMP:20260422T223755
CREATED:20240625T113115Z
LAST-MODIFIED:20240625T113115Z
UID:939-1719511200-1719529200@ajmphoto.fr
SUMMARY:Sortie Salles Lavalette
DESCRIPTION: 
URL:https://ajmphoto.fr/event/sortie-salles-lavalette/
END:VEVENT
BEGIN:VEVENT
DTSTART;TZID=Europe/Paris:20240629T140000
DTEND;TZID=Europe/Paris:20240630T180000
DTSTAMP:20260422T223755
CREATED:20240629T141741Z
LAST-MODIFIED:20240629T155957Z
UID:943-1719669600-1719770400@ajmphoto.fr
SUMMARY:Marie-Christine Couhier
DESCRIPTION:A l’occasion de la nuit des églises\, M. C. nous propose de nouveaux clichés de ces monuments.
URL:https://ajmphoto.fr/event/marie-christine-couhier/
END:VEVENT
END:VCALENDAR